BEGIN:VCALENDAR
VERSION:2.0
PRODID:-//Pendula Óvoda - ECPv6.6.3//NONSGML v1.0//EN
CALSCALE:GREGORIAN
METHOD:PUBLISH
X-WR-CALNAME:Pendula Óvoda
X-ORIGINAL-URL:https://pendula.hu
X-WR-CALDESC:Events for Pendula Óvoda
REFRESH-INTERVAL;VALUE=DURATION:PT1H
X-Robots-Tag:noindex
X-PUBLISHED-TTL:PT1H
BEGIN:VTIMEZONE
TZID:Europe/Budapest
BEGIN:DAYLIGHT
TZOFFSETFROM:+0100
TZOFFSETTO:+0200
TZNAME:CEST
DTSTART:20250330T010000
END:DAYLIGHT
BEGIN:STANDARD
TZOFFSETFROM:+0200
TZOFFSETTO:+0100
TZNAME:CET
DTSTART:20251026T010000
END:STANDARD
BEGIN:DAYLIGHT
TZOFFSETFROM:+0100
TZOFFSETTO:+0200
TZNAME:CEST
DTSTART:20260329T010000
END:DAYLIGHT
BEGIN:STANDARD
TZOFFSETFROM:+0200
TZOFFSETTO:+0100
TZNAME:CET
DTSTART:20261025T010000
END:STANDARD
END:VTIMEZONE
BEGIN:VEVENT
DTSTART;TZID=Europe/Budapest:20251204T163000
DTEND;TZID=Europe/Budapest:20251204T173000
DTSTAMP:20260419T165007
CREATED:20251127T201016Z
LAST-MODIFIED:20251127T201016Z
UID:10000315-1764865800-1764869400@pendula.hu
SUMMARY:Pendula csoport Szülői megbeszélés
DESCRIPTION:
URL:https://pendula.hu/esemeny/pendula-csoport-szuloi-megbeszeles-5/
END:VEVENT
BEGIN:VEVENT
DTSTART;TZID=Europe/Budapest:20251208T160000
DTEND;TZID=Europe/Budapest:20251208T170000
DTSTAMP:20260419T165007
CREATED:20251127T201041Z
LAST-MODIFIED:20251127T201041Z
UID:10000316-1765209600-1765213200@pendula.hu
SUMMARY:Beszélgetőkör Szülőklub
DESCRIPTION:
URL:https://pendula.hu/esemeny/beszelgetokor-szuloklub-22/
END:VEVENT
BEGIN:VEVENT
DTSTART;TZID=Europe/Budapest:20251209T163000
DTEND;TZID=Europe/Budapest:20251209T173000
DTSTAMP:20260419T165007
CREATED:20251215T194153Z
LAST-MODIFIED:20251215T194153Z
UID:10000318-1765297800-1765301400@pendula.hu
SUMMARY:Stella csoport Szülői beszélgetés
DESCRIPTION:
URL:https://pendula.hu/esemeny/stella-csoport-szuloi-beszelgetes-3/
END:VEVENT
BEGIN:VEVENT
DTSTART;TZID=Europe/Budapest:20251210T163000
DTEND;TZID=Europe/Budapest:20251210T173000
DTSTAMP:20260419T165007
CREATED:20251215T194223Z
LAST-MODIFIED:20251215T194223Z
UID:10000319-1765384200-1765387800@pendula.hu
SUMMARY:Luna csoport Szülői beszélgetés
DESCRIPTION:
URL:https://pendula.hu/esemeny/luna-csoport-szuloi-beszelgetes-3/
END:VEVENT
BEGIN:VEVENT
DTSTART;VALUE=DATE:20251212
DTEND;VALUE=DATE:20251213
DTSTAMP:20260419T165007
CREATED:20251215T194248Z
LAST-MODIFIED:20251215T194248Z
UID:10000320-1765497600-1765583999@pendula.hu
SUMMARY:A fény érkezése
DESCRIPTION:
URL:https://pendula.hu/esemeny/a-feny-erkezese/
END:VEVENT
BEGIN:VEVENT
DTSTART;VALUE=DATE:20251215
DTEND;VALUE=DATE:20251220
DTSTAMP:20260419T165007
CREATED:20251127T201114Z
LAST-MODIFIED:20251127T201114Z
UID:10000317-1765756800-1766188799@pendula.hu
SUMMARY:Gyertyafény hete
DESCRIPTION:
URL:https://pendula.hu/esemeny/gyertyafeny-hete-3/
END:VEVENT
BEGIN:VEVENT
DTSTART;TZID=Europe/Budapest:20251215T150000
DTEND;TZID=Europe/Budapest:20251215T170000
DTSTAMP:20260419T165007
CREATED:20251215T194316Z
LAST-MODIFIED:20251215T194316Z
UID:10000321-1765810800-1765818000@pendula.hu
SUMMARY:Illatos tea nap 15 órától
DESCRIPTION:
URL:https://pendula.hu/esemeny/illatos-tea-nap-15-oratol/
END:VEVENT
BEGIN:VEVENT
DTSTART;TZID=Europe/Budapest:20251216T160000
DTEND;TZID=Europe/Budapest:20251216T170000
DTSTAMP:20260419T165007
CREATED:20251215T194400Z
LAST-MODIFIED:20251215T194400Z
UID:10000322-1765900800-1765904400@pendula.hu
SUMMARY:Kis éji zene - házikoncert Szülők kórusa
DESCRIPTION:
URL:https://pendula.hu/esemeny/kis-eji-zene-hazikoncert-szulok-korusa/
END:VEVENT
BEGIN:VEVENT
DTSTART;TZID=Europe/Budapest:20251217T100000
DTEND;TZID=Europe/Budapest:20251217T170000
DTSTAMP:20260419T165007
CREATED:20251215T194453Z
LAST-MODIFIED:20251215T194453Z
UID:10000323-1765965600-1765990800@pendula.hu
SUMMARY:Mesenap - Álomzug Társulás előadása
DESCRIPTION:
URL:https://pendula.hu/esemeny/mesenap-alomzug-tarsulas-eloadasa/
END:VEVENT
BEGIN:VEVENT
DTSTART;TZID=Europe/Budapest:20251218T163000
DTEND;TZID=Europe/Budapest:20251218T173000
DTSTAMP:20260419T165007
CREATED:20251215T194528Z
LAST-MODIFIED:20251215T194528Z
UID:10000324-1766075400-1766079000@pendula.hu
SUMMARY:Titkok napja -  Árnyszínház Pendula csoport részére
DESCRIPTION:
URL:https://pendula.hu/esemeny/titkok-napja-arnyszinhaz-pendula-csoport-reszere/
END:VEVENT
BEGIN:VEVENT
DTSTART;TZID=Europe/Budapest:20251219T100000
DTEND;TZID=Europe/Budapest:20251219T170000
DTSTAMP:20260419T165007
CREATED:20251215T194555Z
LAST-MODIFIED:20251215T194555Z
UID:10000325-1766138400-1766163600@pendula.hu
SUMMARY:Habos kakaó nap
DESCRIPTION:
URL:https://pendula.hu/esemeny/habos-kakao-nap/
END:VEVENT
BEGIN:VEVENT
DTSTART;VALUE=DATE:20251220
DTEND;VALUE=DATE:20260105
DTSTAMP:20260419T165007
CREATED:20250926T084806Z
LAST-MODIFIED:20250926T084806Z
UID:10000311-1766188800-1767571199@pendula.hu
SUMMARY:Téli szünet
DESCRIPTION:
URL:https://pendula.hu/esemeny/teli-szunet-5/
END:VEVENT
END:VCALENDAR