BEGIN:VCALENDAR
VERSION:2.0
PRODID:-//Pendula Óvoda - ECPv6.6.3//NONSGML v1.0//EN
CALSCALE:GREGORIAN
METHOD:PUBLISH
X-ORIGINAL-URL:https://pendula.hu
X-WR-CALDESC:Events for Pendula Óvoda
REFRESH-INTERVAL;VALUE=DURATION:PT1H
X-Robots-Tag:noindex
X-PUBLISHED-TTL:PT1H
BEGIN:VTIMEZONE
TZID:Europe/Budapest
BEGIN:DAYLIGHT
TZOFFSETFROM:+0100
TZOFFSETTO:+0200
TZNAME:CEST
DTSTART:20240331T010000
END:DAYLIGHT
BEGIN:STANDARD
TZOFFSETFROM:+0200
TZOFFSETTO:+0100
TZNAME:CET
DTSTART:20241027T010000
END:STANDARD
END:VTIMEZONE
BEGIN:VEVENT
DTSTART;VALUE=DATE:20240902
DTEND;VALUE=DATE:20240903
DTSTAMP:20260419T145219
CREATED:20240806T123416Z
LAST-MODIFIED:20240806T123416Z
UID:10000267-1725235200-1725321599@pendula.hu
SUMMARY:Nevelési év első napja
DESCRIPTION:
URL:https://pendula.hu/esemeny/nevelesi-ev-elso-napja/
END:VEVENT
BEGIN:VEVENT
DTSTART;TZID=Europe/Budapest:20240916T160000
DTEND;TZID=Europe/Budapest:20240916T170000
DTSTAMP:20260419T145219
CREATED:20240911T094049Z
LAST-MODIFIED:20240911T094049Z
UID:10000268-1726502400-1726506000@pendula.hu
SUMMARY:Beszélgetőkör Szülőklub
DESCRIPTION:
URL:https://pendula.hu/esemeny/beszelgetokor-szuloklub-17/
END:VEVENT
BEGIN:VEVENT
DTSTART;TZID=Europe/Budapest:20240917T163000
DTEND;TZID=Europe/Budapest:20240917T173000
DTSTAMP:20260419T145219
CREATED:20240911T094226Z
LAST-MODIFIED:20240911T094226Z
UID:10000269-1726590600-1726594200@pendula.hu
SUMMARY:Luna csoport Szülői megbeszélés
DESCRIPTION:
URL:https://pendula.hu/esemeny/luna-csoport-szuloi-megbeszeles-2/
END:VEVENT
BEGIN:VEVENT
DTSTART;TZID=Europe/Budapest:20240918T163000
DTEND;TZID=Europe/Budapest:20240918T173000
DTSTAMP:20260419T145219
CREATED:20240911T094252Z
LAST-MODIFIED:20240911T094252Z
UID:10000270-1726677000-1726680600@pendula.hu
SUMMARY:Pendula csoport Szülői megbeszélés
DESCRIPTION:
URL:https://pendula.hu/esemeny/pendula-csoport-szuloi-megbeszeles-3/
END:VEVENT
BEGIN:VEVENT
DTSTART;TZID=Europe/Budapest:20240919T163000
DTEND;TZID=Europe/Budapest:20240919T173000
DTSTAMP:20260419T145219
CREATED:20240911T094319Z
LAST-MODIFIED:20240911T094319Z
UID:10000271-1726763400-1726767000@pendula.hu
SUMMARY:Stella csoport Szülői megbeszélés
DESCRIPTION:
URL:https://pendula.hu/esemeny/stella-csoport-szuloi-megbeszeles-2/
END:VEVENT
BEGIN:VEVENT
DTSTART;VALUE=DATE:20240930
DTEND;VALUE=DATE:20241001
DTSTAMP:20260419T145219
CREATED:20241002T172654Z
LAST-MODIFIED:20241002T172654Z
UID:10000272-1727654400-1727740799@pendula.hu
SUMMARY:Népmese napja
DESCRIPTION:
URL:https://pendula.hu/esemeny/nepmese-napja/
END:VEVENT
END:VCALENDAR