BEGIN:VCALENDAR
VERSION:2.0
PRODID:-//Pendula Óvoda - ECPv6.6.3//NONSGML v1.0//EN
CALSCALE:GREGORIAN
METHOD:PUBLISH
X-WR-CALNAME:Pendula Óvoda
X-ORIGINAL-URL:https://pendula.hu
X-WR-CALDESC:Events for Pendula Óvoda
REFRESH-INTERVAL;VALUE=DURATION:PT1H
X-Robots-Tag:noindex
X-PUBLISHED-TTL:PT1H
BEGIN:VTIMEZONE
TZID:Europe/Budapest
BEGIN:DAYLIGHT
TZOFFSETFROM:+0100
TZOFFSETTO:+0200
TZNAME:CEST
DTSTART:20260329T010000
END:DAYLIGHT
BEGIN:STANDARD
TZOFFSETFROM:+0200
TZOFFSETTO:+0100
TZNAME:CET
DTSTART:20261025T010000
END:STANDARD
END:VTIMEZONE
BEGIN:VEVENT
DTSTART;TZID=Europe/Budapest:20260318T163000
DTEND;TZID=Europe/Budapest:20260318T173000
DTSTAMP:20260420T123451
CREATED:20260309T145205Z
LAST-MODIFIED:20260309T145205Z
UID:10000334-1773851400-1773855000@pendula.hu
SUMMARY:Luna csoport Szülői megbeszélés
DESCRIPTION:
URL:https://pendula.hu/esemeny/luna-csoport-szuloi-megbeszeles-4/
END:VEVENT
END:VCALENDAR