BEGIN:VCALENDAR
VERSION:2.0
PRODID:-//Pendula Óvoda - ECPv6.6.3//NONSGML v1.0//EN
CALSCALE:GREGORIAN
METHOD:PUBLISH
X-ORIGINAL-URL:https://pendula.hu
X-WR-CALDESC:Events for Pendula Óvoda
REFRESH-INTERVAL;VALUE=DURATION:PT1H
X-Robots-Tag:noindex
X-PUBLISHED-TTL:PT1H
BEGIN:VTIMEZONE
TZID:Europe/Budapest
BEGIN:DAYLIGHT
TZOFFSETFROM:+0100
TZOFFSETTO:+0200
TZNAME:CEST
DTSTART:20240331T010000
END:DAYLIGHT
BEGIN:STANDARD
TZOFFSETFROM:+0200
TZOFFSETTO:+0100
TZNAME:CET
DTSTART:20241027T010000
END:STANDARD
END:VTIMEZONE
BEGIN:VEVENT
DTSTART;TZID=Europe/Budapest:20240919T163000
DTEND;TZID=Europe/Budapest:20240919T173000
DTSTAMP:20260419T162729
CREATED:20240911T094319Z
LAST-MODIFIED:20240911T094319Z
UID:10000271-1726763400-1726767000@pendula.hu
SUMMARY:Stella csoport Szülői megbeszélés
DESCRIPTION:
URL:https://pendula.hu/esemeny/stella-csoport-szuloi-megbeszeles-2/
END:VEVENT
END:VCALENDAR